BEGIN:VCALENDAR
VERSION:2.0
PRODID:-//improvhi.com - ECPv6.15.20//NONSGML v1.0//EN
CALSCALE:GREGORIAN
METHOD:PUBLISH
X-WR-CALNAME:improvhi.com
X-ORIGINAL-URL:https://improvhi.com
X-WR-CALDESC:Events for improvhi.com
REFRESH-INTERVAL;VALUE=DURATION:PT1H
X-Robots-Tag:noindex
X-PUBLISHED-TTL:PT1H
BEGIN:VTIMEZONE
TZID:Pacific/Honolulu
BEGIN:STANDARD
TZOFFSETFROM:-1000
TZOFFSETTO:-1000
TZNAME:HST
DTSTART:20170101T000000
END:STANDARD
END:VTIMEZONE
BEGIN:VEVENT
DTSTART;TZID=Pacific/Honolulu:20190406T200000
DTEND;TZID=Pacific/Honolulu:20190406T220000
DTSTAMP:20260425T040616
CREATED:20180822T053431Z
LAST-MODIFIED:20190108T103651Z
UID:10004592-1554580800-1554588000@improvhi.com
SUMMARY:Free Improv Comedy Shows in Honolulu! April 6th 8pm & 9pm
DESCRIPTION:Free Improv Comedy Shows in Honolulu! \nJoin us for another AWESOME night of made up comedy with the Improvhi Team and special guests.\nSeating is limited\, guarantee your seats online or come early to get a good spot*\nCost: Donate what you can\nParking: Metered\, Street or Paid Garage (Sorry\, but we do not validate) \nFirst Show @ 8pm (Doors open at 7:45pm)\nSecond Show @ 9pm (Doors open at 8:45pm) \nCheck out all the awesome bars at SALT before (and after) the show! \n*Online reservations will end at 4pm on the day of the show. Empty reserved seats will be filled by the waitlist 15 minutes before the show begins. Limit 4 tickets per order. \n(This show may contain adult language and situations.)
URL:https://improvhi.com/event/free-improv-comedy-shows-in-honolulu-april-6th-8pm-9pm/
LOCATION:Revolusun at SALT in Kakaako (above Moku Kitchen)\, 660 Ala Moana Blvd #220a\, Honolulu\, HI 96813\, USA\, Honolulu\, Hawaii\, 96813\, United States
CATEGORIES:free show,honolulu,improvhi,improvhi news,kakaako,kimee balmilero,our kakaako
ATTACH;FMTTYPE=image/jpeg:https://improvhi.com/wp-content/uploads/2018/08/april2019.jpg
ORGANIZER;CN="Improvhi":MAILTO:hi@improvhi.com
GEO:21.2982942;-157.8618687
X-APPLE-STRUCTURED-LOCATION;VALUE=URI;X-ADDRESS=Revolusun at SALT in Kakaako (above Moku Kitchen) 660 Ala Moana Blvd #220a Honolulu HI 96813 USA Honolulu Hawaii 96813 United States;X-APPLE-RADIUS=500;X-TITLE=660 Ala Moana Blvd #220a\, Honolulu\, HI 96813\, USA:geo:-157.8618687,21.2982942
END:VEVENT
BEGIN:VEVENT
DTSTART;TZID=Pacific/Honolulu:20190302T200000
DTEND;TZID=Pacific/Honolulu:20190302T220000
DTSTAMP:20260425T040616
CREATED:20180822T053431Z
LAST-MODIFIED:20190218T212601Z
UID:10004590-1551556800-1551564000@improvhi.com
SUMMARY:Free Improv Comedy Shows in Honolulu! Mar 2nd 8pm & 9pm
DESCRIPTION:Free Improv Comedy Shows in Honolulu! \nJoin us for another AWESOME night of made up comedy with the Improvhi Team and special guests.\nSeating is limited\, guarantee your seats online or come early to get a good spot*\nCost: Donate what you can\nParking: Metered\, Street or Paid Garage (Sorry\, but we do not validate) \nFirst Show @ 8pm (Doors open at 7:45pm)\nSecond Show @ 9pm (Doors open at 8:45pm) \nCheck out all the awesome bars at SALT before (and after) the show! \n*Online reservations will end at 4pm on the day of the show. Empty reserved seats will be filled by the waitlist 15 minutes before the show begins. Limit 4 tickets per order. \n(This show may contain adult language and situations.)
URL:https://improvhi.com/event/free-improv-comedy-shows-in-honolulu-mar-2nd-8pm-9pm/
LOCATION:Revolusun at SALT in Kakaako (above Moku Kitchen)\, 660 Ala Moana Blvd #220a\, Honolulu\, HI 96813\, USA\, Honolulu\, Hawaii\, 96813\, United States
CATEGORIES:free show,honolulu,improvhi,improvhi news,kakaako,kimee balmilero,our kakaako
ATTACH;FMTTYPE=image/jpeg:https://improvhi.com/wp-content/uploads/2018/08/mar2019.jpg
ORGANIZER;CN="Improvhi":MAILTO:hi@improvhi.com
GEO:21.2982942;-157.8618687
X-APPLE-STRUCTURED-LOCATION;VALUE=URI;X-ADDRESS=Revolusun at SALT in Kakaako (above Moku Kitchen) 660 Ala Moana Blvd #220a Honolulu HI 96813 USA Honolulu Hawaii 96813 United States;X-APPLE-RADIUS=500;X-TITLE=660 Ala Moana Blvd #220a\, Honolulu\, HI 96813\, USA:geo:-157.8618687,21.2982942
END:VEVENT
BEGIN:VEVENT
DTSTART;TZID=Pacific/Honolulu:20190202T200000
DTEND;TZID=Pacific/Honolulu:20190202T220000
DTSTAMP:20260425T040616
CREATED:20180822T053431Z
LAST-MODIFIED:20190108T101712Z
UID:10004588-1549137600-1549144800@improvhi.com
SUMMARY:Free Improv Comedy Shows in Honolulu! Feb 2nd 8pm & 9pm
DESCRIPTION:Free Improv Comedy Shows in Honolulu! \nJoin us for another AWESOME night of made up comedy with the Improvhi Team and special guests.\nSeating is limited\, guarantee your seats online or come early to get a good spot*\nCost: Donate what you can\nParking: Metered\, Street or Paid Garage (Sorry\, but we do not validate) \nFirst Show @ 8pm (Doors open at 7:45pm)\nSecond Show @ 9pm (Doors open at 8:45pm) \nCheck out all the awesome bars at SALT before (and after) the show! \n*Online reservations will end at 4pm on the day of the show. Empty reserved seats will be filled by the waitlist 15 minutes before the show begins. Limit 4 tickets per order. \n(This show may contain adult language and situations.)
URL:https://improvhi.com/event/free-improv-comedy-shows-in-honolulu-feb-2nd-8pm-9pm/
LOCATION:Revolusun at SALT in Kakaako (above Moku Kitchen)\, 660 Ala Moana Blvd #220a\, Honolulu\, HI 96813\, USA\, Honolulu\, Hawaii\, 96813\, United States
CATEGORIES:free show,honolulu,improvhi,improvhi news,kakaako,kimee balmilero,our kakaako
ATTACH;FMTTYPE=image/jpeg:https://improvhi.com/wp-content/uploads/2018/08/feb2019-1.jpg
ORGANIZER;CN="Improvhi":MAILTO:hi@improvhi.com
GEO:21.2982942;-157.8618687
X-APPLE-STRUCTURED-LOCATION;VALUE=URI;X-ADDRESS=Revolusun at SALT in Kakaako (above Moku Kitchen) 660 Ala Moana Blvd #220a Honolulu HI 96813 USA Honolulu Hawaii 96813 United States;X-APPLE-RADIUS=500;X-TITLE=660 Ala Moana Blvd #220a\, Honolulu\, HI 96813\, USA:geo:-157.8618687,21.2982942
END:VEVENT
BEGIN:VEVENT
DTSTART;TZID=Pacific/Honolulu:20190105T200000
DTEND;TZID=Pacific/Honolulu:20190105T220000
DTSTAMP:20260425T040616
CREATED:20180822T053431Z
LAST-MODIFIED:20181230T075559Z
UID:10004890-1546718400-1546725600@improvhi.com
SUMMARY:Free Improv Comedy Shows in Honolulu! Jan 5th 8pm & 9pm
DESCRIPTION:Free Improv Comedy Shows in Honolulu! \nYay! It’s a NEW YEAR! Join us for another AWESOME night of made up comedy with the Improvhi Team and special guests.\nSeating is limited\, guarantee your seats online or come early to get a good spot*\nCost: Donate what you can\nParking: Metered\, Street or Paid Garage (Sorry\, but we do not validate) \nFirst Show @ 8pm (Doors open at 7:45pm)\nSecond Show @ 9pm (Doors open at 8:45pm) \nCheck out all the awesome bars at SALT before (and after) the show! \n*Guarantee your FREE seats online. Online reservations will end at 5pm on the day of the show. Empty reserved seats will be filled by the waitlist 15 minutes before the show begins. Limit 4 tickets per order. \n(This show may contain adult language and situations.)
URL:https://improvhi.com/event/free-improv-comedy-shows-in-honolulu-jan-5th-8pm-9pm/
LOCATION:Revolusun at SALT in Kakaako (above Moku Kitchen)\, 660 Ala Moana Blvd #220a\, Honolulu\, HI 96813\, USA\, Honolulu\, Hawaii\, 96813\, United States
CATEGORIES:free show,honolulu,improvhi,improvhi news,kakaako,kimee balmilero,our kakaako
ATTACH;FMTTYPE=image/jpeg:https://improvhi.com/wp-content/uploads/2018/08/jan2019.jpg
ORGANIZER;CN="Improvhi":MAILTO:hi@improvhi.com
GEO:21.2982942;-157.8618687
X-APPLE-STRUCTURED-LOCATION;VALUE=URI;X-ADDRESS=Revolusun at SALT in Kakaako (above Moku Kitchen) 660 Ala Moana Blvd #220a Honolulu HI 96813 USA Honolulu Hawaii 96813 United States;X-APPLE-RADIUS=500;X-TITLE=660 Ala Moana Blvd #220a\, Honolulu\, HI 96813\, USA:geo:-157.8618687,21.2982942
END:VEVENT
BEGIN:VEVENT
DTSTART;TZID=Pacific/Honolulu:20181201T190000
DTEND;TZID=Pacific/Honolulu:20181201T210000
DTSTAMP:20260425T040616
CREATED:20180822T053431Z
LAST-MODIFIED:20180822T062550Z
UID:10004889-1543690800-1543698000@improvhi.com
SUMMARY:Free Improv Comedy Shows in Honolulu! Dec 1st 8pm & 9pm
DESCRIPTION:Free Improv Comedy Shows in Honolulu! \nJoin us for another AWESOME night of made up comedy with the Improvhi Team and special guests.\nSeating is limited\, guarantee your seats online or come early to get a good spot*\nCost: Donate what you can\nParking: Metered\, Street or Paid Garage \nFirst Show @ 8pm (Doors open at 7:45pm)\nSecond Show @ 9pm (Doors open at 8:45pm) \nCheck out all the awesome bars at SALT before (and after) the show! \n\n\n*Guarantee your FREE seats online. Empty seats will be filled at showtime by waitlist.\n\n\n(This show may contain adult language and situations.)
URL:https://improvhi.com/event/free-improv-comedy-shows-in-honolulu-dec-1st-8pm-9pm/
LOCATION:Revolusun at SALT in Kakaako (above Moku Kitchen)\, 660 Ala Moana Blvd #220a\, Honolulu\, HI 96813\, USA\, Honolulu\, Hawaii\, 96813\, United States
CATEGORIES:free show,honolulu,improvhi,improvhi news,kakaako,kimee balmilero,our kakaako
ATTACH;FMTTYPE=image/jpeg:https://improvhi.com/wp-content/uploads/2018/08/ojams-dec-2018.jpg
ORGANIZER;CN="Improvhi":MAILTO:hi@improvhi.com
GEO:21.2982942;-157.8618687
X-APPLE-STRUCTURED-LOCATION;VALUE=URI;X-ADDRESS=Revolusun at SALT in Kakaako (above Moku Kitchen) 660 Ala Moana Blvd #220a Honolulu HI 96813 USA Honolulu Hawaii 96813 United States;X-APPLE-RADIUS=500;X-TITLE=660 Ala Moana Blvd #220a\, Honolulu\, HI 96813\, USA:geo:-157.8618687,21.2982942
END:VEVENT
BEGIN:VEVENT
DTSTART;TZID=Pacific/Honolulu:20181103T190000
DTEND;TZID=Pacific/Honolulu:20181103T210000
DTSTAMP:20260425T040616
CREATED:20180822T053431Z
LAST-MODIFIED:20180822T062616Z
UID:10004888-1541271600-1541278800@improvhi.com
SUMMARY:Free Improv Comedy Shows in Honolulu! Nov 3rd 8pm & 9pm
DESCRIPTION:Free Improv Comedy Shows in Honolulu! \nJoin us for another AWESOME night of made up comedy with the Improvhi Team and special guests.\nSeating is limited\, guarantee your seats online or come early to get a good spot*\nCost: Donate what you can\nParking: Metered\, Street or Paid Garage \nFirst Show @ 8pm (Doors open at 7:45pm)\nSecond Show @ 9pm (Doors open at 8:45pm) \nCheck out all the awesome bars at SALT before (and after) the show! \n\n\n*Guarantee your FREE seats online. Empty seats will be filled at showtime by waitlist.\n\n\n(This show may contain adult language and situations.)
URL:https://improvhi.com/event/free-improv-comedy-shows-in-honolulu-nov-3rd-8pm-9pm/
LOCATION:Revolusun at SALT in Kakaako (above Moku Kitchen)\, 660 Ala Moana Blvd #220a\, Honolulu\, HI 96813\, USA\, Honolulu\, Hawaii\, 96813\, United States
CATEGORIES:free show,honolulu,improvhi,improvhi news,kakaako,kimee balmilero,our kakaako
ATTACH;FMTTYPE=image/jpeg:https://improvhi.com/wp-content/uploads/2018/08/ojams-nov-2018.jpg
ORGANIZER;CN="Improvhi":MAILTO:hi@improvhi.com
GEO:21.2982942;-157.8618687
X-APPLE-STRUCTURED-LOCATION;VALUE=URI;X-ADDRESS=Revolusun at SALT in Kakaako (above Moku Kitchen) 660 Ala Moana Blvd #220a Honolulu HI 96813 USA Honolulu Hawaii 96813 United States;X-APPLE-RADIUS=500;X-TITLE=660 Ala Moana Blvd #220a\, Honolulu\, HI 96813\, USA:geo:-157.8618687,21.2982942
END:VEVENT
BEGIN:VEVENT
DTSTART;TZID=Pacific/Honolulu:20181021T190000
DTEND;TZID=Pacific/Honolulu:20181021T210000
DTSTAMP:20260425T040616
CREATED:20181008T232700Z
LAST-MODIFIED:20181010T052538Z
UID:10004907-1540148400-1540155600@improvhi.com
SUMMARY:Whose Da Kine Is It Anyway?
DESCRIPTION:We are excited to close out this year’s Hawaii Sketch Comedy Festival with our very first all improv night! This special night of comedy will feature visiting Los Angeles team Nihongo Dake\, who will do an entire set in Japanese! Whether you’re fluent or not…\nDON’T MISS THIS SHOW!
URL:https://improvhi.com/event/whose-da-kine-is-it-anyway/
LOCATION:Revolusun at SALT in Kakaako (above Moku Kitchen)\, 660 Ala Moana Blvd #220a\, Honolulu\, HI 96813\, USA\, Honolulu\, Hawaii\, 96813\, United States
CATEGORIES:free show,Hawaii Sketch Comedy Festival,honolulu,improvhi,improvhi news,improvhimusical,kakaako,kimee balmilero,sketch comedy
ATTACH;FMTTYPE=image/jpeg:https://improvhi.com/wp-content/uploads/2018/10/hisf-nihongo.jpg
ORGANIZER;CN="Hawaii Sketch Comedy Festival":MAILTO:hi@hisketchfest.com
GEO:21.2982942;-157.8618687
X-APPLE-STRUCTURED-LOCATION;VALUE=URI;X-ADDRESS=Revolusun at SALT in Kakaako (above Moku Kitchen) 660 Ala Moana Blvd #220a Honolulu HI 96813 USA Honolulu Hawaii 96813 United States;X-APPLE-RADIUS=500;X-TITLE=660 Ala Moana Blvd #220a\, Honolulu\, HI 96813\, USA:geo:-157.8618687,21.2982942
END:VEVENT
BEGIN:VEVENT
DTSTART;TZID=Pacific/Honolulu:20181006T190000
DTEND;TZID=Pacific/Honolulu:20181006T210000
DTSTAMP:20260425T040616
CREATED:20180822T053431Z
LAST-MODIFIED:20180822T062628Z
UID:10004887-1538852400-1538859600@improvhi.com
SUMMARY:Free Improv Comedy Shows in Honolulu! Oct 6th 8pm & 9pm
DESCRIPTION:Free Improv Comedy Shows in Honolulu! \nJoin us for another AWESOME night of made up comedy with the Improvhi Team and special guests.\nSeating is limited\, guarantee your seats online or come early to get a good spot*\nCost: Donate what you can\nParking: Metered\, Street or Paid Garage \nFirst Show @ 8pm (Doors open at 7:45pm)\nSecond Show @ 9pm (Doors open at 8:45pm) \nCheck out all the awesome bars at SALT before (and after) the show! \n\n\n*Guarantee your FREE seats online. Empty seats will be filled at showtime by waitlist.\n\n\n(This show may contain adult language and situations.)
URL:https://improvhi.com/event/free-improv-comedy-shows-in-honolulu-oct-6th-8pm-9pm/
LOCATION:Revolusun at SALT in Kakaako (above Moku Kitchen)\, 660 Ala Moana Blvd #220a\, Honolulu\, HI 96813\, USA\, Honolulu\, Hawaii\, 96813\, United States
CATEGORIES:free show,honolulu,improvhi,improvhi news,kakaako,kimee balmilero,our kakaako
ATTACH;FMTTYPE=image/jpeg:https://improvhi.com/wp-content/uploads/2018/08/ojams-oct-2018.jpg
ORGANIZER;CN="Improvhi":MAILTO:hi@improvhi.com
GEO:21.2982942;-157.8618687
X-APPLE-STRUCTURED-LOCATION;VALUE=URI;X-ADDRESS=Revolusun at SALT in Kakaako (above Moku Kitchen) 660 Ala Moana Blvd #220a Honolulu HI 96813 USA Honolulu Hawaii 96813 United States;X-APPLE-RADIUS=500;X-TITLE=660 Ala Moana Blvd #220a\, Honolulu\, HI 96813\, USA:geo:-157.8618687,21.2982942
END:VEVENT
BEGIN:VEVENT
DTSTART;TZID=Pacific/Honolulu:20180901T190000
DTEND;TZID=Pacific/Honolulu:20180901T210000
DTSTAMP:20260425T040616
CREATED:20180822T053431Z
LAST-MODIFIED:20180822T062646Z
UID:10004886-1535828400-1535835600@improvhi.com
SUMMARY:Free Improv Comedy Shows in Honolulu! Sept 1st 8pm & 9pm
DESCRIPTION:Free Improv Comedy Shows in Honolulu! \nJoin us for another AWESOME night of made up comedy with the Improvhi Team and special guests.\nSeating is limited\, guarantee your seats online or come early to get a good spot*\nCost: Donate what you can\nParking: Metered\, Street or Paid Garage \nFirst Show @ 8pm (Doors open at 7:45pm)\nSecond Show @ 9pm (Doors open at 8:45pm) \nCheck out all the awesome bars at SALT before (and after) the show! \n\n\n*Guarantee your FREE seats online. Empty seats will be filled at showtime by waitlist.\n\n\n(This show may contain adult language and situations.)
URL:https://improvhi.com/event/free-improv-comedy-shows-in-honolulu/
LOCATION:Revolusun at SALT in Kakaako (above Moku Kitchen)\, 660 Ala Moana Blvd #220a\, Honolulu\, HI 96813\, USA\, Honolulu\, Hawaii\, 96813\, United States
CATEGORIES:free show,honolulu,improvhi,improvhi news,kakaako,kimee balmilero,our kakaako
ATTACH;FMTTYPE=image/jpeg:https://improvhi.com/wp-content/uploads/2018/08/ojams-Sept-2018.jpg
ORGANIZER;CN="Improvhi":MAILTO:hi@improvhi.com
GEO:21.2982942;-157.8618687
X-APPLE-STRUCTURED-LOCATION;VALUE=URI;X-ADDRESS=Revolusun at SALT in Kakaako (above Moku Kitchen) 660 Ala Moana Blvd #220a Honolulu HI 96813 USA Honolulu Hawaii 96813 United States;X-APPLE-RADIUS=500;X-TITLE=660 Ala Moana Blvd #220a\, Honolulu\, HI 96813\, USA:geo:-157.8618687,21.2982942
END:VEVENT
BEGIN:VEVENT
DTSTART;TZID=Pacific/Honolulu:20180804T210000
DTEND;TZID=Pacific/Honolulu:20180804T214500
DTSTAMP:20260425T040616
CREATED:20180612T082351Z
LAST-MODIFIED:20180715T025942Z
UID:10004857-1533416400-1533419100@improvhi.com
SUMMARY:The Improvhi Birthday Shows!
DESCRIPTION:It’s our birthday and we’ll make stuff up ’cause we want to! Join us as we celebrate our 6th Birthday! We can button our own pants and tie our own shoe laces now!! \nIt’s going to be a special night of long form improv comedy at Revolusun in Kakaako! Hope to see you there! \nSeating is limited\, so come early to get a good spot! \nCost: Donate what you can!\nReserve seats online. Empty seats will be given to waitlist.\nParking: Metered\, Street\, Paid Garage \nShow One:\nDoors: 7:30pm\nShowtime: 8pm\nFeaturing Improvhi and our latest 101 Graduates! \nShow Two:\nDoors: 8:50pm\nShowtime: 9pm \nLimited seating.\nGuarantee your FREE seats online.\nEmpty seats will be filled at showtime by waitlist. \nNo beverages served during the show. Check out the awesome bars at SALT before (and after) the show! \nSEE YOU THERE! \n(This show may contain adult language and situations.)
URL:https://improvhi.com/event/the-improvhi-birthday-show-2/
LOCATION:Revolusun at SALT in Kakaako (above Moku Kitchen)\, 660 Ala Moana Blvd #220a\, Honolulu\, HI 96813\, USA\, Honolulu\, Hawaii\, 96813\, United States
CATEGORIES:free show,honolulu,improvhi,improvhi news,kakaako,kimee balmilero,our kakaako,shows
ATTACH;FMTTYPE=image/jpeg:https://improvhi.com/wp-content/uploads/2018/06/ojams-aug-2018-1.jpg
ORGANIZER;CN="Improvhi":MAILTO:hi@improvhi.com
GEO:21.2982942;-157.8618687
X-APPLE-STRUCTURED-LOCATION;VALUE=URI;X-ADDRESS=Revolusun at SALT in Kakaako (above Moku Kitchen) 660 Ala Moana Blvd #220a Honolulu HI 96813 USA Honolulu Hawaii 96813 United States;X-APPLE-RADIUS=500;X-TITLE=660 Ala Moana Blvd #220a\, Honolulu\, HI 96813\, USA:geo:-157.8618687,21.2982942
END:VEVENT
BEGIN:VEVENT
DTSTART;TZID=Pacific/Honolulu:20180804T200000
DTEND;TZID=Pacific/Honolulu:20180804T214500
DTSTAMP:20260425T040616
CREATED:20180612T082351Z
LAST-MODIFIED:20180727T030711Z
UID:10004856-1533412800-1533419100@improvhi.com
SUMMARY:The Improvhi Birthday Shows!
DESCRIPTION:It’s our birthday and we’ll make stuff up ’cause we want to! Join us as we celebrate our 6th Birthday! We can button our own pants and tie our own shoe laces now!! \nIt’s going to be a special night of long form improv comedy at Revolusun in Kakaako! Hope to see you there! \nSeating is limited\, so come early to get a good spot! \nCost: Donate what you can!\nReserve seats online. Empty seats will be given to waitlist.\nParking: Metered\, Street\, Paid Garage \nShow One:\nDoors: 7:30pm\nShowtime: 8pm\nFeaturing Improvhi and our latest 101 Graduates! \nShow Two:\nDoors: 8:50pm\nShowtime: 9pm \nLimited seating.\nGuarantee your FREE seats online.\nEmpty seats will be filled at showtime by waitlist. \nNo beverages served during the show. Check out the awesome bars at SALT before (and after) the show! \nSEE YOU THERE! \n(This show may contain adult language and situations.)
URL:https://improvhi.com/event/the-improvhi-birthday-show/
LOCATION:Revolusun at SALT in Kakaako (above Moku Kitchen)\, 660 Ala Moana Blvd #220a\, Honolulu\, HI 96813\, USA\, Honolulu\, Hawaii\, 96813\, United States
CATEGORIES:free show,honolulu,improvhi,improvhi news,kakaako,kimee balmilero,our kakaako,shows
ATTACH;FMTTYPE=image/jpeg:https://improvhi.com/wp-content/uploads/2018/06/ojams-aug-2018-1.jpg
ORGANIZER;CN="Improvhi":MAILTO:hi@improvhi.com
GEO:21.2982942;-157.8618687
X-APPLE-STRUCTURED-LOCATION;VALUE=URI;X-ADDRESS=Revolusun at SALT in Kakaako (above Moku Kitchen) 660 Ala Moana Blvd #220a Honolulu HI 96813 USA Honolulu Hawaii 96813 United States;X-APPLE-RADIUS=500;X-TITLE=660 Ala Moana Blvd #220a\, Honolulu\, HI 96813\, USA:geo:-157.8618687,21.2982942
END:VEVENT
END:VCALENDAR