BEGIN:VCALENDAR
VERSION:2.0
PRODID:-//improvhi.com - ECPv6.15.20//NONSGML v1.0//EN
CALSCALE:GREGORIAN
METHOD:PUBLISH
X-ORIGINAL-URL:https://improvhi.com
X-WR-CALDESC:Events for improvhi.com
REFRESH-INTERVAL;VALUE=DURATION:PT1H
X-Robots-Tag:noindex
X-PUBLISHED-TTL:PT1H
BEGIN:VTIMEZONE
TZID:Pacific/Honolulu
BEGIN:STANDARD
TZOFFSETFROM:-1000
TZOFFSETTO:-1000
TZNAME:HST
DTSTART:20130101T000000
END:STANDARD
END:VTIMEZONE
BEGIN:VEVENT
DTSTART;TZID=Pacific/Honolulu:20140913T210000
DTEND;TZID=Pacific/Honolulu:20140913T230000
DTSTAMP:20260421T053454
CREATED:20140909T054715Z
LAST-MODIFIED:20140909T054715Z
UID:10004381-1410642000-1410649200@improvhi.com
SUMMARY:Oil in the Alley at Downbeat Diner & Lounge
DESCRIPTION:We’re baaaaaaaaack!\nOil in the Alley is going to rock another Saturday night at the Downbeat Lounge and Cafe on September 13th. The music begins at about 9ish with an opening band (Junkies Running Dry\, an Operation Ivy cover band) followed by OIL doing a full hour set. Afterward\, hang with host Johnny Boto doing Botoroke (his take on Karaoke) and sing with the Oil boys! \nAlso\, special event this night only: the debut of our\nNEW MUSIC VIDEO for our song Palindrome\, played on Downbeat’s cool video screens. \nJoin us\, won’t you? \nNO COVER\nSaturday\, September 13th\n21 & up only\nhttp://downbeatdiner.com/home/\n42 N Hotel St\, Honolulu\, HI 96817\nPhone:(808) 533-2328 \nOIL IN THE ALLEY plays improvised rock’n’roll. In a tuneful\, original music way. An awesomely beat-heavy hook-happy bighaired way. It’s never the same twice\, but it’s always a smash selection of the greatest hits from their heyday in the late 80s/early 90s. \nOIL IN THE ALLEY is Sean T.C. O’Malley – guitar\, vocals; R. Kevin Garcia Doyle – vocals; Bri X – bass; and Dan Cutter – drums. \nhttp://www.facebook.com/OILINTHEALLEY
URL:https://improvhi.com/event/oil-in-the-alley-at-downbeat-diner-lounge/
LOCATION:Downbeat Diner & Lounge\, 42 North Hotel Street\, Honolulu\, HI 96817\, USA
ATTACH;FMTTYPE=image/jpeg:https://improvhi.com/wp-content/uploads/2014/09/10615433_10152298638322997_1508118858165408634_n.jpg
ORGANIZER;CN="Sean TC O'Malley":MAILTO:stcomalley@gmail.com
GEO:21.3115757;-157.8621715
X-APPLE-STRUCTURED-LOCATION;VALUE=URI;X-ADDRESS=Downbeat Diner & Lounge 42 North Hotel Street Honolulu HI 96817 USA;X-APPLE-RADIUS=500;X-TITLE=42 North Hotel Street\, Honolulu\, HI 96817\, USA:geo:-157.8621715,21.3115757
END:VEVENT
END:VCALENDAR