BEGIN:VCALENDAR
VERSION:2.0
PRODID:-//improvhi.com - ECPv6.15.20//NONSGML v1.0//EN
CALSCALE:GREGORIAN
METHOD:PUBLISH
X-WR-CALNAME:improvhi.com
X-ORIGINAL-URL:https://improvhi.com
X-WR-CALDESC:Events for improvhi.com
REFRESH-INTERVAL;VALUE=DURATION:PT1H
X-Robots-Tag:noindex
X-PUBLISHED-TTL:PT1H
BEGIN:VTIMEZONE
TZID:Pacific/Honolulu
BEGIN:STANDARD
TZOFFSETFROM:-1000
TZOFFSETTO:-1000
TZNAME:HST
DTSTART:20210101T000000
END:STANDARD
END:VTIMEZONE
BEGIN:VEVENT
DTSTART;TZID=Pacific/Honolulu:20240518T140000
DTEND;TZID=Pacific/Honolulu:20240518T160000
DTSTAMP:20260421T132755
CREATED:20240501T114656Z
LAST-MODIFIED:20240501T114657Z
UID:10005243-1716040800-1716048000@improvhi.com
SUMMARY:Musical Improv Workshop
DESCRIPTION:About This Workshop:\n\n\n\nHave fun learning the basics of improvising songs! This lively workshop will guide you in song structure\, rhyming\, and musical styling. Accompanied by a live pianist\, you’ll improvise as a team to create never-before-heard musical comedy gold.Prerequisite: One level of improv experience \n\n\n\nAbout The Instructor:\n\n\n\nLA based and German-born\, Jiavani (she/him) can be seen on Netflix in “Dead to Me” and “Between Two Ferns: The Movie.” You can also catch Jiavani in “Reno 911: Defunded\,” voicing various characters on Cartoon Network and Comedy Central and streaming improv comedy across many shows on the Dropout platform. \n\n\n\nEntrance:\n\n\n\nThe entrance is on South Street between Auahi and Pohukaina. Walk down small steps and follow the hallway to the left. Wheelchair-accessible entrance off of Pohukaina St. \n\n\n\nWatch this video for directions. \n\n\n\nParking:\n\n\n\nStreet\, metered and paid parking in nearby surrounding garages. We do not validate. \n\n\n\nSorry\, no refunds\, exchanges\, or rainchecks.
URL:https://hicomedyfest.com/event/2024-05-18-musical-improv/#new_tab
LOCATION:Albert Franz Dance Studio\, 419 South Street\, Ste. 140\, Honolulu\, Hawaii\, 96813\, United States
ATTACH;FMTTYPE=image/png:https://improvhi.com/wp-content/uploads/2024/05/AAPI-AF-WORKSHOP-MUSICAL.png
GEO:21.30011;-157.861412
X-APPLE-STRUCTURED-LOCATION;VALUE=URI;X-ADDRESS=Albert Franz Dance Studio 419 South Street Ste. 140 Honolulu Hawaii 96813 United States;X-APPLE-RADIUS=500;X-TITLE=419 South Street\, Ste. 140:geo:-157.861412,21.30011
END:VEVENT
BEGIN:VEVENT
DTSTART;TZID=Pacific/Honolulu:20240518T113000
DTEND;TZID=Pacific/Honolulu:20240518T133000
DTSTAMP:20260421T132755
CREATED:20240501T113658Z
LAST-MODIFIED:20240501T113803Z
UID:10005241-1716031800-1716039000@improvhi.com
SUMMARY:Characters Workshop
DESCRIPTION:About This Workshop:\n\n\n\nHave fun learning the basics of improvising songs! This lively workshop will guide you in song structure\, rhyming\, and musical styling. Accompanied by a live pianist\, you’ll improvise as a team to create never-before-heard musical comedy gold.Prerequisite: One level of improv experienc \n\n\n\nAbout The Instructor:\n\n\n\nLA based and German-born\, Jiavani (she/him) can be seen on Netflix in “Dead to Me” and “Between Two Ferns: The Movie.” You can also catch Jiavani in “Reno 911: Defunded\,” voicing various characters on Cartoon Network and Comedy Central and streaming improv comedy across many shows on the Dropout platform. \n\n\n\nEntrance:\n\n\n\nThe entrance is on South Street between Auahi and Pohukaina. Walk down small steps and follow the hallway to the left. Wheelchair-accessible entrance off of Pohukaina St. \n\n\n\nWatch this video for directions. \n\n\n\nParking:\n\n\n\nStreet\, metered and paid parking in nearby surrounding garages. We do not validate. \n\n\n\nSorry\, no refunds\, exchanges\, or rainchecks.
URL:https://hicomedyfest.com/event/2024-05-18-characters-workshop/#new_tab
LOCATION:Albert Franz Dance Studio\, 419 South Street\, Ste. 140\, Honolulu\, Hawaii\, 96813\, United States
ATTACH;FMTTYPE=image/png:https://improvhi.com/wp-content/uploads/2024/05/AAPI-AF-WORKSHOP-CHARACTERS.png
GEO:21.30011;-157.861412
X-APPLE-STRUCTURED-LOCATION;VALUE=URI;X-ADDRESS=Albert Franz Dance Studio 419 South Street Ste. 140 Honolulu Hawaii 96813 United States;X-APPLE-RADIUS=500;X-TITLE=419 South Street\, Ste. 140:geo:-157.861412,21.30011
END:VEVENT
BEGIN:VEVENT
DTSTART;TZID=Pacific/Honolulu:20230824T190000
DTEND;TZID=Pacific/Honolulu:20230824T210000
DTSTAMP:20260421T132755
CREATED:20230823T191936Z
LAST-MODIFIED:20230823T192506Z
UID:10005184-1692903600-1692910800@improvhi.com
SUMMARY:Super Beginner Improv Workshop - 8/24
DESCRIPTION:Wanna try some improv\, but don’t feel like you’re ready? Well…you’re definitely ready for this class! Trust us! In this SUPER BEGINNER WORKSHOP you’ll learn the very basics of improv through fun group games. Good for shy folks and big hams. Try something new with super fun people! \n\n\n\nEntrance:\n\n\n\nThe entrance is on South Street between Auahi and Pohukaina. Walk down small steps and follow the hallway to the left. Wheelchair-accessible entrance off of Pohukaina St. \n\n\n\nWatch this video for directions\, but when you reach Tiny Stage\, turn right and head to Studio 140\, just down the hall. \n\n\n\nClass Max Size: 15\n\n\n\nInstructor: Jose V.\n\n\n\n*instructors subject to change without notice \n\n\n\nAll students should review the improvhi house rules before starting their classes.
URL:https://improvhi.com/event/super-beginner-improv-workshop-8-24/
LOCATION:Albert Franz Dance Studio\, 419 South Street\, Ste. 140\, Honolulu\, Hawaii\, 96813\, United States
ATTACH;FMTTYPE=image/png:https://improvhi.com/wp-content/uploads/2020/11/2020-Class-Square-7.png
GEO:21.30011;-157.861412
X-APPLE-STRUCTURED-LOCATION;VALUE=URI;X-ADDRESS=Albert Franz Dance Studio 419 South Street Ste. 140 Honolulu Hawaii 96813 United States;X-APPLE-RADIUS=500;X-TITLE=419 South Street\, Ste. 140:geo:-157.861412,21.30011
END:VEVENT
BEGIN:VEVENT
DTSTART;TZID=Pacific/Honolulu:20220815T190000
DTEND;TZID=Pacific/Honolulu:20220815T213000
DTSTAMP:20260421T132755
CREATED:20220622T030159Z
LAST-MODIFIED:20220725T103156Z
UID:10005073-1660590000-1660599000@improvhi.com
SUMMARY:Improv 101: The Basics 8-15-22
DESCRIPTION:Trying improv for the first time\, or just getting back into the swing of things? This intro level set of classes is designed to give you the basic tools of improv comedy. Students will learn the value of “yes\, and”-ing\, listening\, agreement\, support\, and more in a safe\, non-judgmental environment. At the end of the 101 session\, students will have the opportunity to perform a showcase for invited guests. \n\n\n\nClass length: Four 2.5 hour classesPrerequisite: No Experience Needed \n\n\n\nClass Dates:\n\n\n\nMondays and Tuesdays: 8/15\, 8/16\, 8/22\, 8/23 \n\n\n\nInstructor:\n\n\n\nJose Ver*instructors subject to change without notice \n\n\n\nAll students should review the improvhi house rules before starting their classes.
URL:https://improvhi.com/event/improv-101-the-basics-8-15-2022/
LOCATION:Albert Franz Dance Studio\, 419 South Street\, Ste. 140\, Honolulu\, Hawaii\, 96813\, United States
CATEGORIES:improvhi,improvhi class,improvhi news
ATTACH;FMTTYPE=image/png:https://improvhi.com/wp-content/uploads/2019/12/101-Class-Square.png
GEO:21.30011;-157.861412
X-APPLE-STRUCTURED-LOCATION;VALUE=URI;X-ADDRESS=Albert Franz Dance Studio 419 South Street Ste. 140 Honolulu Hawaii 96813 United States;X-APPLE-RADIUS=500;X-TITLE=419 South Street\, Ste. 140:geo:-157.861412,21.30011
END:VEVENT
END:VCALENDAR