BEGIN:VCALENDAR
VERSION:2.0
PRODID:-//improvhi.com - ECPv6.15.20//NONSGML v1.0//EN
CALSCALE:GREGORIAN
METHOD:PUBLISH
X-ORIGINAL-URL:https://improvhi.com
X-WR-CALDESC:Events for improvhi.com
REFRESH-INTERVAL;VALUE=DURATION:PT1H
X-Robots-Tag:noindex
X-PUBLISHED-TTL:PT1H
BEGIN:VTIMEZONE
TZID:Pacific/Honolulu
BEGIN:STANDARD
TZOFFSETFROM:-1000
TZOFFSETTO:-1000
TZNAME:HST
DTSTART:20250101T000000
END:STANDARD
END:VTIMEZONE
BEGIN:VEVENT
DTSTART;TZID=Pacific/Honolulu:20260512T190000
DTEND;TZID=Pacific/Honolulu:20260512T213000
DTSTAMP:20260420T044908
CREATED:20260415T045757Z
LAST-MODIFIED:20260415T045759Z
UID:10005432-1778612400-1778621400@improvhi.com
SUMMARY:Improv 301: Heightening (previous intermediate level improv experience recommended) – 5/12/26 – 6/16/26
DESCRIPTION:Take your improv skills to the next level in this dynamic 301 class\, where we’ll focus on amplifying the fun of a scene through tag-outs\, group games\, and back-line support. Students will continue sharpening their premise-based initiations\, explore new openings\, and dive deeper into the magic of organic scene work. Whether you’re looking to refine your comedic instincts or build seamless ensemble play\, this class will challenge you to heighten\, explore\, and play like never before.At the end of the 301 session\, students will have the opportunity to perform a showcase for invited guests. \n\n\n\nClass length: Six 2.5 hour classesClass size: 16 \n\n\n\nPrerequisite: \n\n\n\nExperience with Long Form Improv (intermediate level) \n\n\n\nClass Dates: \n\n\n\nTuesdays: 5/12\, 5/19\, 5/26\, 6/2\, 6/9\, 6/16 Showcase 6/23 \n\n\n\nEntrance: \n\n\n\nThe entrance is on South Street between Auahi and Pohukaina. Walk down small steps and follow the hallway to the left. Wheelchair-accessible entrance off of Pohukaina St. \n\n\n\nWatch this video for directions. \n\n\n\nInstructor: \n\n\n\nKimee B.*instructors subject to change without notice \n\n\n\nAll students should review the improvhi house rules before starting their classes. \n\n\n\nSorry\, no refunds\, exchanges\, or rain checks. \n\n\n\nOur classes are for students 18 years and older unless otherwise specified. Students aged 16 and 17 may attend with an accompanying\, registered adult.
URL:https://improvhi.com/event/2026-05-12-improv-301/
LOCATION:Improv Hawaii’s Tiny Stage\, 419 South St Suite 163\, Honolulu\, HI\, 96813\, United States
ATTACH;FMTTYPE=image/png:https://improvhi.com/wp-content/uploads/2025/02/Improv-301-1.png
GEO:21.30011;-157.8614119
X-APPLE-STRUCTURED-LOCATION;VALUE=URI;X-ADDRESS=Improv Hawaii’s Tiny Stage 419 South St Suite 163 Honolulu HI 96813 United States;X-APPLE-RADIUS=500;X-TITLE=419 South St Suite 163:geo:-157.8614119,21.30011
END:VEVENT
END:VCALENDAR